BEGIN:VCALENDAR
VERSION:2.0
PRODID:-//81.31.158.31//NONSGML kigkonsult.se iCalcreator 2.20//
CALSCALE:GREGORIAN
METHOD:PUBLISH
X-WR-TIMEZONE:UTC
BEGIN:VEVENT
UID:event4@legambiente assemini
DTSTAMP:20260419T184233Z
CATEGORIES:Corsi
DESCRIPTION:corso formazione volontari censimento ungulati 2017\nCategoria:
  Corsi\nLink: https://legambienteassemini.it/index.php?option=com_jem&view
 =event&id=4:corso-formazione-volontari-censimento-ungulati-2017\n
DTSTART:20170901T190000Z
DTEND:20170901T210000Z
LOCATION:Legambiente Assemini\,via Cagliari\, 16\,09032 Assemini
SUMMARY:corso formazione volontari censimento ungulati 2017
URL:https://legambienteassemini.it/index.php?option=com_jem&view=event&id=4
 :corso-formazione-volontari-censimento-ungulati-2017
END:VEVENT
END:VCALENDAR
